BEGIN:VCALENDAR
VERSION:2.0
PRODID:-//WelpIcalBundle//Calendar App//PL
CALSCALE:GREGORIAN
METHOD:PUBLISH
BEGIN:VTIMEZONE
TZID:Europe/Warsaw
BEGIN:STANDARD
DTSTART:20261025T010000
TZOFFSETTO:+0100
TZOFFSETFROM:+0200
RRULE:FREQ=YEARLY;BYMONTH=11;BYDAY=1SU
END:STANDARD
BEGIN:DAYLIGHT
DTSTART:20260329T010000
TZOFFSETTO:+0200
TZOFFSETFROM:+0100
RRULE:FREQ=YEARLY;BYMONTH=3;BYDAY=2SU
END:DAYLIGHT
END:VTIMEZONE
BEGIN:VEVENT
UID:17919@klubstudio
DTSTART:20260812T180000
DTEND:20260812T230000
SUMMARY:The Living Tombstone Multiplayer Tour
DESCRIPTION:TLT to duet Yoav Landau i Sam Haft. Przez 15 lat działaln
 ości zgromadzili 9 milionów subskrybentów na YouTube i ponad 70 mil
 iardów odtworzeń na różnych platformach. Mają za sobą wyprzedan
 ą trasę World Tour 2025 obejmującą cztery kontynenty.
LOCATION;LANGUAGE=pl:Klub Studio
URL:https://www.klubstudio.pl/koncert/B36MMe/2026-08-12/The-Living-Tom
 bstone-Multiplayer-Tour
DTSTAMP:20260421T121005Z
ORGANIZER;CN=Live Nation;LANGUAGE=pl:
END:VEVENT
END:VCALENDAR
