BEGIN:VCALENDAR
VERSION:2.0
PRODID:-//WelpIcalBundle//Calendar App//PL
CALSCALE:GREGORIAN
METHOD:PUBLISH
BEGIN:VTIMEZONE
TZID:Europe/Warsaw
BEGIN:STANDARD
DTSTART:20261025T010000
TZOFFSETTO:+0100
TZOFFSETFROM:+0200
RRULE:FREQ=YEARLY;BYMONTH=11;BYDAY=1SU
END:STANDARD
BEGIN:DAYLIGHT
DTSTART:20260329T010000
TZOFFSETTO:+0200
TZOFFSETFROM:+0100
RRULE:FREQ=YEARLY;BYMONTH=3;BYDAY=2SU
END:DAYLIGHT
END:VTIMEZONE
BEGIN:VEVENT
UID:17206@klubstudio
DTSTART:20260523T193000
DTEND:20260523T230000
SUMMARY:Euforia Dźwięku
DESCRIPTION:Już 23.05.2026 roku ponownie zapełnimy krakowski Klub St
 udio wspaniałą publiką\, a na scenie usłyszycie legendy europejski
 ej sceny klubowej!
LOCATION;LANGUAGE=pl:Klub Studio
URL:https://www.klubstudio.pl/koncert/B8xm3B/2026-05-23/Euforia-D%C5%B
 Awi%C4%99ku
DTSTAMP:20260424T131841Z
ORGANIZER;CN=Inny;LANGUAGE=pl:
END:VEVENT
END:VCALENDAR
