BEGIN:VCALENDAR
VERSION:2.0
PRODID:-//WelpIcalBundle//Calendar App//PL
CALSCALE:GREGORIAN
METHOD:PUBLISH
BEGIN:VTIMEZONE
TZID:Europe/Warsaw
BEGIN:STANDARD
DTSTART:20131027T010000
TZOFFSETTO:+0100
TZOFFSETFROM:+0200
RRULE:FREQ=YEARLY;BYMONTH=11;BYDAY=1SU
END:STANDARD
BEGIN:DAYLIGHT
DTSTART:20130331T010000
TZOFFSETTO:+0200
TZOFFSETFROM:+0100
RRULE:FREQ=YEARLY;BYMONTH=3;BYDAY=2SU
END:DAYLIGHT
END:VTIMEZONE
BEGIN:VEVENT
UID:7264@klubstudio
DTSTART:20130702T200000
DTEND:20130702T210000
SUMMARY:GOV'T MULE
DESCRIPTION:Kiedy w 1994 roku Warren Haynes\, Allen Woody i Matt Abts 
 spotkali się po raz pierwszy w sali prób\, nikt\, nawet sami muzycy 
 nie spodziewali się\, że nie minie kilka lat\, a staną się prawdzi
 wą rockową potęgą.\n\n
LOCATION;LANGUAGE=pl:Klub Studio
URL:https://www.klubstudio.pl/koncert/BVnjzB/2013-07-02/GOV-T-MULE
DTSTAMP:20260423T105543Z
ORGANIZER;CN=Fundacja ACADEMICA;LANGUAGE=pl:
END:VEVENT
END:VCALENDAR
