BEGIN:VCALENDAR
VERSION:2.0
PRODID:-//WelpIcalBundle//Calendar App//PL
CALSCALE:GREGORIAN
METHOD:PUBLISH
BEGIN:VTIMEZONE
TZID:Europe/Warsaw
BEGIN:STANDARD
DTSTART:20241027T010000
TZOFFSETTO:+0100
TZOFFSETFROM:+0200
RRULE:FREQ=YEARLY;BYMONTH=11;BYDAY=1SU
END:STANDARD
BEGIN:DAYLIGHT
DTSTART:20240331T010000
TZOFFSETTO:+0200
TZOFFSETFROM:+0100
RRULE:FREQ=YEARLY;BYMONTH=3;BYDAY=2SU
END:DAYLIGHT
END:VTIMEZONE
BEGIN:VEVENT
UID:14688@klubstudio
DTSTART:20240126T210000
DTEND:20240126T230000
SUMMARY:Slaughter to Prevail
DESCRIPTION:Otwarcie bram: 19:00\nSlaughter to Prevail emerges from th
 e darkest corners of the metal scene\, wielding an uncompromising soun
 d that resonates with the intensity of a thousand thunderstorms.
LOCATION;LANGUAGE=pl:Klub Studio
URL:https://www.klubstudio.pl/koncert/R4VnzB/2024-01-26/Slaughter-to-P
 revail
DTSTAMP:20260425T170125Z
ORGANIZER;CN=Osoba prywatna;LANGUAGE=pl:
END:VEVENT
END:VCALENDAR
