BEGIN:VCALENDAR
VERSION:2.0
PRODID:-//WelpIcalBundle//Calendar App//PL
CALSCALE:GREGORIAN
METHOD:PUBLISH
BEGIN:VTIMEZONE
TZID:Europe/Warsaw
BEGIN:STANDARD
DTSTART:20191027T010000
TZOFFSETTO:+0100
TZOFFSETFROM:+0200
RRULE:FREQ=YEARLY;BYMONTH=11;BYDAY=1SU
END:STANDARD
BEGIN:DAYLIGHT
DTSTART:20190331T010000
TZOFFSETTO:+0200
TZOFFSETFROM:+0100
RRULE:FREQ=YEARLY;BYMONTH=3;BYDAY=2SU
END:DAYLIGHT
END:VTIMEZONE
BEGIN:VEVENT
UID:9311@klubstudio
DTSTART:20191122T190000
DTEND:20191122T210000
SUMMARY:Synestezje: Dikanda & Marko Kukobat oraz Kroke & Maja Sikorowska
DESCRIPTION:Otwarcie bram: 18:00\nDIKANDA to powstały w Szczecinie\, 
 uznany szczególnie na zagranicznym rynku muzycznym zespół grający 
 world music. W swojej twórczości Dikanda stawia na autentyczność s
 tylu – poszukuje nowych nurtów i większość utworów jest orygina
 lnymi kompozycjami. Muzyczne inspiracje czerpie z tradycyjnych\, folko
 wych brzmień szeroko rozumianego orientu – od Bałkanów\, przez Iz
 rael\, Kurdystan\, Białoruś po Indie. W ich utworach można usłysze
 ć głównie brzmienia bałkańskie i cygańskie.
LOCATION;LANGUAGE=pl:Klub Studio
URL:https://www.klubstudio.pl/koncert/Rm0OEX/2019-11-22/Synestezje-Dik
 anda-Marko-Kukobat-oraz-Kroke-Maja-Sikorowska
DTSTAMP:20260420T201125Z
ORGANIZER;CN=Fundacja ACADEMICA;LANGUAGE=pl:
END:VEVENT
END:VCALENDAR
