BEGIN:VCALENDAR
VERSION:2.0
PRODID:-//WelpIcalBundle//Calendar App//PL
CALSCALE:GREGORIAN
METHOD:PUBLISH
BEGIN:VTIMEZONE
TZID:Europe/Warsaw
BEGIN:STANDARD
DTSTART:20261025T010000
TZOFFSETTO:+0100
TZOFFSETFROM:+0200
RRULE:FREQ=YEARLY;BYMONTH=11;BYDAY=1SU
END:STANDARD
BEGIN:DAYLIGHT
DTSTART:20260329T010000
TZOFFSETTO:+0200
TZOFFSETFROM:+0100
RRULE:FREQ=YEARLY;BYMONTH=3;BYDAY=2SU
END:DAYLIGHT
END:VTIMEZONE
BEGIN:VEVENT
UID:17611@klubstudio
DTSTART:20261127T200000
DTEND:20261127T230000
SUMMARY:Myslovitz Dla Ciebie (wpadłem w głęboką depresję) Ostatni Raz!
DESCRIPTION:Otwarcie bram: 18:30\nMyslovitz powraca do Krakowa z tras
 ą "Dla Ciebie (wpadłem w głęboką depresję) Ostatni Raz!”.
LOCATION;LANGUAGE=pl:Klub Studio
URL:https://www.klubstudio.pl/koncert/Rmk0dB/2026-11-27/Myslovitz-Dla-
 Ciebie-wpad%C5%82em-w-g%C5%82%C4%99bok%C4%85-depresj%C4%99-Ostatni-Raz
DTSTAMP:20260424T131658Z
ORGANIZER;CN=Fundacja ACADEMICA;LANGUAGE=pl:
END:VEVENT
END:VCALENDAR
