BEGIN:VCALENDAR
VERSION:2.0
PRODID:-//WelpIcalBundle//Calendar App//PL
CALSCALE:GREGORIAN
METHOD:PUBLISH
BEGIN:VTIMEZONE
TZID:Europe/Warsaw
BEGIN:STANDARD
DTSTART:20191027T010000
TZOFFSETTO:+0100
TZOFFSETFROM:+0200
RRULE:FREQ=YEARLY;BYMONTH=11;BYDAY=1SU
END:STANDARD
BEGIN:DAYLIGHT
DTSTART:20190331T010000
TZOFFSETTO:+0200
TZOFFSETFROM:+0100
RRULE:FREQ=YEARLY;BYMONTH=3;BYDAY=2SU
END:DAYLIGHT
END:VTIMEZONE
BEGIN:VEVENT
UID:10238@klubstudio
DTSTART:20191210T200002
DTEND:20191210T220002
SUMMARY:Stand Up Night: Jachimek, Korólczyk, Błachnio, Wojciech
DESCRIPTION:Otwarcie bram: 19:00\nSzanowni Państwo z przyczyn losowyc
 h wydarzenie „Stand Up Night: Jachimek / Korólczyk /  Błachnio / W
 ojciech”\, które miało odbyć się w dniu 29.10.2019\, zostało pr
 zeniesione na dzień 10.12.2019. Godzina wydarzenia pozostaje bez zmia
 n\, tj. 20.00\nZakupione bilety zachowują ważność. Jeżeli nie mog
 ą Państwo uczestniczyć w grudniowym wydarzeniu prosimy o zwrot bile
 tów w miejscu ich zakupu.\n\nRobert Korólczyk – Lider Kabaretu Mł
 odych Panów\, twórca tekstów kabaretowych od lat bawiący miliony P
 olaków. Jego monologi z dużą dawką ironii i dystansu do otaczając
 ej rzeczywistości podbiły serca widzów! Sprawnie naśladuje gwary c
 hoć prawdziwie zna tylko gwarę śląską. Mówi w każdym języku\, 
 choć zna tylko jeden. W trakcie występu przeistacza się z postaci w
  postać\, pokazując tym samym swój fantastyczny repertuar różnych
  charakterów.
LOCATION;LANGUAGE=pl:Klub Studio
URL:https://www.klubstudio.pl/kabaret/Rz9rGX/2019-12-10/Stand-Up-Night
 -Jachimek-Kor%C3%B3lczyk-B%C5%82achnio-Wojciech
DTSTAMP:20260423T105711Z
ORGANIZER;CN=Fundacja ACADEMICA;LANGUAGE=pl:
END:VEVENT
END:VCALENDAR
