BEGIN:VCALENDAR
VERSION:2.0
PRODID:-//WelpIcalBundle//Calendar App//PL
CALSCALE:GREGORIAN
METHOD:PUBLISH
BEGIN:VTIMEZONE
TZID:Europe/Warsaw
BEGIN:STANDARD
DTSTART:20261025T010000
TZOFFSETTO:+0100
TZOFFSETFROM:+0200
RRULE:FREQ=YEARLY;BYMONTH=11;BYDAY=1SU
END:STANDARD
BEGIN:DAYLIGHT
DTSTART:20260329T010000
TZOFFSETTO:+0200
TZOFFSETFROM:+0100
RRULE:FREQ=YEARLY;BYMONTH=3;BYDAY=2SU
END:DAYLIGHT
END:VTIMEZONE
BEGIN:VEVENT
UID:18537@klubstudio
DTSTART:20260521T220000
DTEND:20260521T230000
SUMMARY:JUWENALIOWE BANG BANG
DESCRIPTION:Czas na JUWENALIOWE BANG BANG! Zapraszamy na najlepszą st
 udencką imprezę w mieście!
LOCATION;LANGUAGE=pl:Klub Studio
URL:https://www.klubstudio.pl/impreza_pub/X6yWvB/2026-05-21/JUWENALIOW
 E-BANG-BANG
DTSTAMP:20260423T135427Z
END:VEVENT
END:VCALENDAR
