BEGIN:VCALENDAR
VERSION:2.0
PRODID:-//WelpIcalBundle//Calendar App//PL
CALSCALE:GREGORIAN
METHOD:PUBLISH
BEGIN:VTIMEZONE
TZID:Europe/Warsaw
BEGIN:STANDARD
DTSTART:20251026T010000
TZOFFSETTO:+0100
TZOFFSETFROM:+0200
RRULE:FREQ=YEARLY;BYMONTH=11;BYDAY=1SU
END:STANDARD
BEGIN:DAYLIGHT
DTSTART:20250330T010000
TZOFFSETTO:+0200
TZOFFSETFROM:+0100
RRULE:FREQ=YEARLY;BYMONTH=3;BYDAY=2SU
END:DAYLIGHT
END:VTIMEZONE
BEGIN:VEVENT
UID:15943@klubstudio
DTSTART:20250506T190000
DTEND:20250506T210000
SUMMARY:MIRACLE OF SOUND gość: Colm R. McGuinness
DESCRIPTION:Niezwykle uzależniającej\, inspirowanej filmami\, grami 
 i książkami twórczości Miracle of Sound będziecie mogli posłucha
 ć na żywo 6 maja w krakowskim klubie Studio! Projekt wystąpi w stol
 icy Małopolski w towarzystwie Colma R. Guinnessa.
LOCATION;LANGUAGE=pl:Klub Studio
URL:https://www.klubstudio.pl/koncert/XPvQpe/2025-05-06/MIRACLE-OF-SOU
 ND-go%C5%9B%C4%87-Colm-R-McGuinness
DTSTAMP:20260421T123521Z
ORGANIZER;CN=WiniaryBookings;LANGUAGE=pl:
END:VEVENT
END:VCALENDAR
