BEGIN:VCALENDAR
VERSION:2.0
PRODID:-//WelpIcalBundle//Calendar App//PL
CALSCALE:GREGORIAN
METHOD:PUBLISH
BEGIN:VTIMEZONE
TZID:Europe/Warsaw
BEGIN:STANDARD
DTSTART:20251026T010000
TZOFFSETTO:+0100
TZOFFSETFROM:+0200
RRULE:FREQ=YEARLY;BYMONTH=11;BYDAY=1SU
END:STANDARD
BEGIN:DAYLIGHT
DTSTART:20250330T010000
TZOFFSETTO:+0200
TZOFFSETFROM:+0100
RRULE:FREQ=YEARLY;BYMONTH=3;BYDAY=2SU
END:DAYLIGHT
END:VTIMEZONE
BEGIN:VEVENT
UID:15641@klubstudio
DTSTART:20250221T190000
DTEND:20250221T210000
SUMMARY:Moonsorrow Houle + Radogost, support: Dymna Lotva
DESCRIPTION:Otwarcie bram: 18:00\nMoonsorrow - krzyżowcy epickiego me
 talu pogańskiego - zespół założony w 1995 roku z zamiarem tworzen
 ia metalowej sztuki z nutą narodowego romantyzmu i wyraźnie pogańsk
 im podejściem.
LOCATION;LANGUAGE=pl:Klub Studio
URL:https://www.klubstudio.pl/koncert/Xvg8QR/2025-02-21/Moonsorrow-Hou
 le-Radogost-support-Dymna-Lotva
DTSTAMP:20260421T130534Z
ORGANIZER;CN=Fundacja ACADEMICA;LANGUAGE=pl:
END:VEVENT
END:VCALENDAR
