BEGIN:VCALENDAR
VERSION:2.0
PRODID:-//WelpIcalBundle//Calendar App//PL
CALSCALE:GREGORIAN
METHOD:PUBLISH
BEGIN:VTIMEZONE
TZID:Europe/Warsaw
BEGIN:STANDARD
DTSTART:20251026T010000
TZOFFSETTO:+0100
TZOFFSETFROM:+0200
RRULE:FREQ=YEARLY;BYMONTH=11;BYDAY=1SU
END:STANDARD
BEGIN:DAYLIGHT
DTSTART:20250330T010000
TZOFFSETTO:+0200
TZOFFSETFROM:+0100
RRULE:FREQ=YEARLY;BYMONTH=3;BYDAY=2SU
END:DAYLIGHT
END:VTIMEZONE
BEGIN:VEVENT
UID:16165@klubstudio
DTSTART:20251011T190000
DTEND:20251011T210000
SUMMARY:Happysad DRUGA PROSTA TOUR
DESCRIPTION:Otwarcie bram: 18:00\nPo kolejnej udanej trasie Happysad I
 naczej\, oraz dobrze zapowiadającym się sezonie koncertów plenerowy
 ch\, Happysad wróci do klubów!
LOCATION;LANGUAGE=pl:Klub Studio
URL:https://www.klubstudio.pl/koncert/e09xMB/2025-10-11/Happysad-DRUGA
 -PROSTA-TOUR
DTSTAMP:20260423T113745Z
ORGANIZER;CN=Fundacja ACADEMICA;LANGUAGE=pl:
END:VEVENT
END:VCALENDAR
