BEGIN:VCALENDAR
VERSION:2.0
PRODID:-//WelpIcalBundle//Calendar App//PL
CALSCALE:GREGORIAN
METHOD:PUBLISH
BEGIN:VTIMEZONE
TZID:Europe/Warsaw
BEGIN:STANDARD
DTSTART:20221030T010000
TZOFFSETTO:+0100
TZOFFSETFROM:+0200
RRULE:FREQ=YEARLY;BYMONTH=11;BYDAY=1SU
END:STANDARD
BEGIN:DAYLIGHT
DTSTART:20220327T010000
TZOFFSETTO:+0200
TZOFFSETFROM:+0100
RRULE:FREQ=YEARLY;BYMONTH=3;BYDAY=2SU
END:DAYLIGHT
END:VTIMEZONE
BEGIN:VEVENT
UID:13716@klubstudio
DTSTART:20221218T190000
DTEND:20221218T210000
SUMMARY:Igor Herbut SOLO
DESCRIPTION:„ Lwia część\, Tu\, Pollock\, Pizno... jak dawno tego
  nie grałem. Tylko w domu\, w pokoju przy pianinie… a chciałbym dl
 a Was."
LOCATION;LANGUAGE=pl:Klub Studio
URL:https://www.klubstudio.pl/koncert/e51o3e/2022-12-18/Igor-Herbut-SOLO
DTSTAMP:20260420T220245Z
ORGANIZER;CN=Randan Music;LANGUAGE=pl:
END:VEVENT
END:VCALENDAR
