BEGIN:VCALENDAR
VERSION:2.0
PRODID:-//WelpIcalBundle//Calendar App//PL
CALSCALE:GREGORIAN
METHOD:PUBLISH
BEGIN:VTIMEZONE
TZID:Europe/Warsaw
BEGIN:STANDARD
DTSTART:20191027T010000
TZOFFSETTO:+0100
TZOFFSETFROM:+0200
RRULE:FREQ=YEARLY;BYMONTH=11;BYDAY=1SU
END:STANDARD
BEGIN:DAYLIGHT
DTSTART:20190331T010000
TZOFFSETTO:+0200
TZOFFSETFROM:+0100
RRULE:FREQ=YEARLY;BYMONTH=3;BYDAY=2SU
END:DAYLIGHT
END:VTIMEZONE
BEGIN:VEVENT
UID:10160@klubstudio
DTSTART:20190524T220000
DTEND:20190525T040000
SUMMARY:Juwenaliowe Disco: Route 66 & DJ Antybiotyk
DESCRIPTION:🌟 piątek to Muzyczna mieszanka wybuchowa z zespołem n
 a żywo! \nImprezę rozkręca wyjątkowy zespół ROUTE 66\, który za
 gra dla Was na żywo najlepsze taneczne hity. Następnie nasz gość s
 pecjalny - DJ Antybiotyk.\nZa konsolą pojawi się również rezydent 
 DJ NAMTEH.
LOCATION;LANGUAGE=pl:Klub Studio
URL:https://www.klubstudio.pl/dyskoteka/e58qzR/2019-05-24/Juwenaliowe-
 Disco-Route-66-DJ-Antybiotyk
DTSTAMP:20260420T025454Z
ORGANIZER;CN=Fundacja ACADEMICA;LANGUAGE=pl:
END:VEVENT
END:VCALENDAR
