BEGIN:VCALENDAR
VERSION:2.0
PRODID:-//WelpIcalBundle//Calendar App//PL
CALSCALE:GREGORIAN
METHOD:PUBLISH
BEGIN:VTIMEZONE
TZID:Europe/Warsaw
BEGIN:STANDARD
DTSTART:20251026T010000
TZOFFSETTO:+0100
TZOFFSETFROM:+0200
RRULE:FREQ=YEARLY;BYMONTH=11;BYDAY=1SU
END:STANDARD
BEGIN:DAYLIGHT
DTSTART:20250330T010000
TZOFFSETTO:+0200
TZOFFSETFROM:+0100
RRULE:FREQ=YEARLY;BYMONTH=3;BYDAY=2SU
END:DAYLIGHT
END:VTIMEZONE
BEGIN:VEVENT
UID:16410@klubstudio
DTSTART:20250213T200000
DTEND:20250213T210000
SUMMARY:Kabaret Hrabi WADY I WASZKI
DESCRIPTION:Kabaret Hrabi „WADY I WASZKI” w Klubie Studio
LOCATION;LANGUAGE=pl:Klub Studio
URL:https://www.klubstudio.pl/kabaret/ewL3MB/2025-02-13/Kabaret-Hrabi-
 WADY-I-WASZKI
DTSTAMP:20260423T105226Z
ORGANIZER;CN=Fundacja ACADEMICA;LANGUAGE=pl:
END:VEVENT
END:VCALENDAR
