BEGIN:VCALENDAR
VERSION:2.0
PRODID:-//WelpIcalBundle//Calendar App//PL
CALSCALE:GREGORIAN
METHOD:PUBLISH
BEGIN:VTIMEZONE
TZID:Europe/Warsaw
BEGIN:STANDARD
DTSTART:20241027T010000
TZOFFSETTO:+0100
TZOFFSETFROM:+0200
RRULE:FREQ=YEARLY;BYMONTH=11;BYDAY=1SU
END:STANDARD
BEGIN:DAYLIGHT
DTSTART:20240331T010000
TZOFFSETTO:+0200
TZOFFSETFROM:+0100
RRULE:FREQ=YEARLY;BYMONTH=3;BYDAY=2SU
END:DAYLIGHT
END:VTIMEZONE
BEGIN:VEVENT
UID:14497@klubstudio
DTSTART:20240215T220000
DTEND:20240216T040000
SUMMARY:from STUDIO with LOVE Dyskoteka Klubu Studio
DESCRIPTION:Otwarcie bram: 22:00\nLove is in the air\, everywhere I lo
 ok around...
LOCATION;LANGUAGE=pl:Klub Studio
URL:https://www.klubstudio.pl/impreza_pub/exO33R/2024-02-15/from-STUDI
 O-with-LOVE-Dyskoteka-Klubu-Studio
DTSTAMP:20260423T160737Z
END:VEVENT
END:VCALENDAR
